BEGIN:VCALENDAR
VERSION:2.0
PRODID:-//Balassi Bálint Művelődési Ház és Könyvtár - ECPv6.15.20//NONSGML v1.0//EN
CALSCALE:GREGORIAN
METHOD:PUBLISH
X-ORIGINAL-URL:https://bbmh.hu
X-WR-CALDESC:Események Balassi Bálint Művelődési Ház és Könyvtár
REFRESH-INTERVAL;VALUE=DURATION:PT1H
X-Robots-Tag:noindex
X-PUBLISHED-TTL:PT1H
BEGIN:VTIMEZONE
TZID:Europe/Paris
BEGIN:DAYLIGHT
TZOFFSETFROM:+0100
TZOFFSETTO:+0200
TZNAME:CEST
DTSTART:20250330T010000
END:DAYLIGHT
BEGIN:STANDARD
TZOFFSETFROM:+0200
TZOFFSETTO:+0100
TZNAME:CET
DTSTART:20251026T010000
END:STANDARD
BEGIN:DAYLIGHT
TZOFFSETFROM:+0100
TZOFFSETTO:+0200
TZNAME:CEST
DTSTART:20260329T010000
END:DAYLIGHT
BEGIN:STANDARD
TZOFFSETFROM:+0200
TZOFFSETTO:+0100
TZNAME:CET
DTSTART:20261025T010000
END:STANDARD
BEGIN:DAYLIGHT
TZOFFSETFROM:+0100
TZOFFSETTO:+0200
TZNAME:CEST
DTSTART:20270328T010000
END:DAYLIGHT
BEGIN:STANDARD
TZOFFSETFROM:+0200
TZOFFSETTO:+0100
TZNAME:CET
DTSTART:20271031T010000
END:STANDARD
END:VTIMEZONE
BEGIN:VEVENT
DTSTART;TZID=Europe/Paris:20260328T180000
DTEND;TZID=Europe/Paris:20260328T210000
DTSTAMP:20260426T031935
CREATED:20260323T162015Z
LAST-MODIFIED:20260323T163733Z
UID:4544-1774720800-1774731600@bbmh.hu
SUMMARY:MAGYAR MENYEGZŐ - FILMBEMUTATÓ
DESCRIPTION:MAGYAR MENYEGZŐ – FILMBEMUTATÓ \n2026. március 28. (szombat) 18:00 óra\nBalassi Bálint művelődési Ház és Könyvtár \nA Vándormozi Jánossomorjára is elhozza a 2026-os év szerelmes táncfilmjét Törőcsik Franciska és Kovács Tamás főszereplésével! \nA vetítést a Nemzeti Művelődési Intézet – Petőfi Kulturális Program keretében a Vándormozi valósítja meg.\nA Petőfi Kulturális Program a Kulturális és Innovációs Minisztérium támogatásával\, a Nemzeti Művelődési Intézet koordinációjában valósul meg. \nA vetítésen való részvétel ingyenes!\n \nTalálkozzunk és éljük át együtt ezt a különleges közösségi élményt!\nSzeretettel várjuk Önöket a mozivászon előtt!
URL:https://bbmh.hu/rendezveny/magyar-menyegzo-filmbemutato/
LOCATION:Balassi Bálint Művelődési Ház\, Óvári u. 1.\, Jánossomorja
CATEGORIES:Mozi
ATTACH;FMTTYPE=image/jpeg:https://bbmh.hu/wp-content/uploads/2026/03/656225655_1261866142701580_3440438223089571309_n.jpg
ORGANIZER;CN="Balassi B%C3%A1lint M%C5%B1vel%C5%91d%C3%A9si H%C3%A1z":MAILTO:muvhaz@janossomorja.hu
END:VEVENT
END:VCALENDAR