BEGIN:VCALENDAR
VERSION:2.0
PRODID:-//Balassi Bálint Művelődési Ház és Könyvtár - ECPv6.15.20//NONSGML v1.0//EN
CALSCALE:GREGORIAN
METHOD:PUBLISH
X-WR-CALNAME:Balassi Bálint Művelődési Ház és Könyvtár
X-ORIGINAL-URL:https://bbmh.hu
X-WR-CALDESC:Események Balassi Bálint Művelődési Ház és Könyvtár
REFRESH-INTERVAL;VALUE=DURATION:PT1H
X-Robots-Tag:noindex
X-PUBLISHED-TTL:PT1H
BEGIN:VTIMEZONE
TZID:Europe/Paris
BEGIN:DAYLIGHT
TZOFFSETFROM:+0100
TZOFFSETTO:+0200
TZNAME:CEST
DTSTART:20250330T010000
END:DAYLIGHT
BEGIN:STANDARD
TZOFFSETFROM:+0200
TZOFFSETTO:+0100
TZNAME:CET
DTSTART:20251026T010000
END:STANDARD
BEGIN:DAYLIGHT
TZOFFSETFROM:+0100
TZOFFSETTO:+0200
TZNAME:CEST
DTSTART:20260329T010000
END:DAYLIGHT
BEGIN:STANDARD
TZOFFSETFROM:+0200
TZOFFSETTO:+0100
TZNAME:CET
DTSTART:20261025T010000
END:STANDARD
BEGIN:DAYLIGHT
TZOFFSETFROM:+0100
TZOFFSETTO:+0200
TZNAME:CEST
DTSTART:20270328T010000
END:DAYLIGHT
BEGIN:STANDARD
TZOFFSETFROM:+0200
TZOFFSETTO:+0100
TZNAME:CET
DTSTART:20271031T010000
END:STANDARD
END:VTIMEZONE
BEGIN:VEVENT
DTSTART;TZID=Europe/Paris:20260415T170000
DTEND;TZID=Europe/Paris:20260415T180000
DTSTAMP:20260425T175420
CREATED:20260323T161818Z
LAST-MODIFIED:20260323T161818Z
UID:4541-1776272400-1776276000@bbmh.hu
SUMMARY:BARDÓCZ JUDIT „IDŐLENYOMAT” - FESTMÉNYKIÁLLÍTÁS MEGNYITÓ
DESCRIPTION:BARDÓCZ JUDIT „IDŐLENYOMAT” – FESTMÉNYKIÁLLÍTÁS MEGNYITÓ \n2026. április 15. (szerda) 17:00 óra \nBalassi Bálint Művelődési Ház \nA kiállításon egy festmény kisorsolásra kerül. \nA kiállítás megtekinthető és a festmények megvásárolhatók 2026. május 15-ig a művelődési ház nyitvatartási idejében. \nMinden kedves érdeklődőt szeretettel várnak a szervezők!
URL:https://bbmh.hu/rendezveny/bardocz-judit-idolenyomat-festmenykiallitas-megnyito/
LOCATION:Balassi Bálint Művelődési Ház\, Óvári u. 1.\, Jánossomorja
CATEGORIES:Kiállítás
ATTACH;FMTTYPE=image/jpeg:https://bbmh.hu/wp-content/uploads/2026/03/Bardocz-Judit-Idolenyomat-festmenykiallitas-2026_04_15_17_00.jpg
ORGANIZER;CN="Balassi B%C3%A1lint M%C5%B1vel%C5%91d%C3%A9si H%C3%A1z":MAILTO:muvhaz@janossomorja.hu
END:VEVENT
END:VCALENDAR