BEGIN:VCALENDAR
VERSION:2.0
PRODID:-//Balassi Bálint Művelődési Ház és Könyvtár - ECPv6.15.20//NONSGML v1.0//EN
CALSCALE:GREGORIAN
METHOD:PUBLISH
X-WR-CALNAME:Balassi Bálint Művelődési Ház és Könyvtár
X-ORIGINAL-URL:https://bbmh.hu
X-WR-CALDESC:Események Balassi Bálint Művelődési Ház és Könyvtár
REFRESH-INTERVAL;VALUE=DURATION:PT1H
X-Robots-Tag:noindex
X-PUBLISHED-TTL:PT1H
BEGIN:VTIMEZONE
TZID:Europe/Paris
BEGIN:DAYLIGHT
TZOFFSETFROM:+0100
TZOFFSETTO:+0200
TZNAME:CEST
DTSTART:20230326T010000
END:DAYLIGHT
BEGIN:STANDARD
TZOFFSETFROM:+0200
TZOFFSETTO:+0100
TZNAME:CET
DTSTART:20231029T010000
END:STANDARD
BEGIN:DAYLIGHT
TZOFFSETFROM:+0100
TZOFFSETTO:+0200
TZNAME:CEST
DTSTART:20240331T010000
END:DAYLIGHT
BEGIN:STANDARD
TZOFFSETFROM:+0200
TZOFFSETTO:+0100
TZNAME:CET
DTSTART:20241027T010000
END:STANDARD
BEGIN:DAYLIGHT
TZOFFSETFROM:+0100
TZOFFSETTO:+0200
TZNAME:CEST
DTSTART:20250330T010000
END:DAYLIGHT
BEGIN:STANDARD
TZOFFSETFROM:+0200
TZOFFSETTO:+0100
TZNAME:CET
DTSTART:20251026T010000
END:STANDARD
END:VTIMEZONE
BEGIN:VEVENT
DTSTART;TZID=Europe/Paris:20241217T100000
DTEND;TZID=Europe/Paris:20241217T120000
DTSTAMP:20260426T033515
CREATED:20241129T075852Z
LAST-MODIFIED:20241129T075852Z
UID:4138-1734429600-1734436800@bbmh.hu
SUMMARY:
DESCRIPTION:BABA OLVASÓKLUB – AZ ARANYKAPU ZENEKAR KARÁCSONYI KONCERTJE \n2024. december 17. (kedd) 10:00 óra \nBaba Olvasóklubunk decemberi programja egy fantasztikus gyermekkoncert\, melyre szeretettel várjuk a 0-3 éves kisgyermekeket és szüleit\, nagyszüleit! \nHangolódjunk együtt az ünnepekre gyönyörű karácsonyi dalokkal\, és aranykapus slágerekkel. \nA program ingyenes! \nAz eseményen kép- és hangfelvétel készülhet.
URL:https://bbmh.hu/rendezveny/4138/
LOCATION:Városi Könyvtár\, Szabadság u. 2.\, Jánossomorja
CATEGORIES:Koncert
ATTACH;FMTTYPE=image/jpeg:https://bbmh.hu/wp-content/uploads/2024/11/bAranykapu-Zenekar-Karacsonyi-koncert-24_12_tv.jpg
END:VEVENT
BEGIN:VEVENT
DTSTART;TZID=Europe/Paris:20241208T160000
DTEND;TZID=Europe/Paris:20241208T180000
DTSTAMP:20260426T033515
CREATED:20241129T081114Z
LAST-MODIFIED:20241129T081114Z
UID:4147-1733673600-1733680800@bbmh.hu
SUMMARY:A NÉMET NEMZETISÉGI ÖNKORMÁNYZAT ADVENTI CSALÁDI DÉLUTÁNJA
DESCRIPTION:A NÉMET NEMZETISÉGI ÖNKORMÁNYZAT ADVENTI CSALÁDI DÉLUTÁNJA \n2024. december 8. (vasárnap) 16 óra \nBalassi Bálint Művelődési Ház
URL:https://bbmh.hu/rendezveny/a-nemet-nemzetisegi-onkormanyzat-adventi-csaladi-delutanja/
LOCATION:Balassi Bálint Művelődési Ház\, Óvári u. 1.\, Jánossomorja
CATEGORIES:Advent
ATTACH;FMTTYPE=image/jpeg:https://bbmh.hu/wp-content/uploads/2024/11/Plakat-2024-NNO-advent.jpg
END:VEVENT
BEGIN:VEVENT
DTSTART;TZID=Europe/Paris:20241208T080000
DTEND;TZID=Europe/Paris:20241208T170000
DTSTAMP:20260426T033515
CREATED:20241203T142111Z
LAST-MODIFIED:20241203T142111Z
UID:4150-1733644800-1733677200@bbmh.hu
SUMMARY:
DESCRIPTION:CIFRA MŰHELY – ADVENTI TÁNCHÁZ \n2024. DECEMBER 8. 15:00 ÓRA \nHelyszín: MOSONSZENTPÉTERI KÖZÖSSÉGI HÁZ (9241 Jánossomorja\, Rákóczi u. 61.) \n  \nA Cifra Műhely néptáncosai a Cifra Banda élőzenés kíséretével táncházat tartanak kicsiknek és nagyoknak az adventi ráhangolódás jegyében. A hangulatot Kalotaszegi cifra szoba kiállítás fokozza\, amely a kalotaszegi Méra településről érkezik. Érkezik a településekre a jó hangulat egyedi kiállítással\, zenével\, tánccal\, kézműves foglalkozással. \n  \nVÁRNAK KICSIKET ÉS NAGYOKAT\, HOGY EGYÜTT SZÍNESÍTSÉK AZ ADVENTI FORGATAGOT!
URL:https://bbmh.hu/rendezveny/4150/
LOCATION:Mosonszentpétei Közösségi Ház\, Rákóczi u. 61.\, Jánossomorja\, Győr-Moson-Sopron megye\, 9241\, Hungary
CATEGORIES:Advent,kézműves foglalkozás,Néptánc,Tánc
ATTACH;FMTTYPE=image/jpeg:https://bbmh.hu/wp-content/uploads/2024/12/Czifra-Muhely-plakat-scaled.jpg
ORGANIZER;CN="Balassi B%C3%A1lint M%C5%B1vel%C5%91d%C3%A9si H%C3%A1z":MAILTO:muvhaz@janossomorja.hu
END:VEVENT
BEGIN:VEVENT
DTSTART;TZID=Europe/Paris:20241207T160000
DTEND;TZID=Europe/Paris:20241207T180000
DTSTAMP:20260426T033515
CREATED:20241129T073800Z
LAST-MODIFIED:20241129T073800Z
UID:4129-1733587200-1733594400@bbmh.hu
SUMMARY:PUSZTASOMORJAI ADVENTI FORGATAG
DESCRIPTION:PUSZTASOMORJAI ADVENTI FORGATAG \n2024. december 7. (szombat)\n16:00-18:00 óráig \nPusztasomorja\, Sós Antal Közösségi Ház \nMinden kedves érdeklődőt szeretettel várnak a szervezők!
URL:https://bbmh.hu/rendezveny/pusztasomorjai-adventi-forgatag-4/
LOCATION:Sós Antal Közösségi Ház\, Szent István u. 39.\, Jánossomorja
CATEGORIES:Advent
ATTACH;FMTTYPE=image/jpeg:https://bbmh.hu/wp-content/uploads/2024/11/Somorjai-Forgatag-2024-honlapra-scaled.jpg
END:VEVENT
BEGIN:VEVENT
DTSTART;TZID=Europe/Paris:20241205T160000
DTEND;TZID=Europe/Paris:20241205T180000
DTSTAMP:20260426T033515
CREATED:20241129T074429Z
LAST-MODIFIED:20241129T074429Z
UID:4132-1733414400-1733421600@bbmh.hu
SUMMARY:VÁROSI MIKULÁS - MIKULÁSJÁRÁS
DESCRIPTION:VÁROSI MIKULÁS – MIKULÁSJÁRÁS \n2024. december 5. (csütörtök) \n16:00: Mosonszentpéter\, templom tér\,\n17:00: Mosonszentjános\, Hármashalom emlékmű\,\n18:00: Pusztasomorja\, templom tér. \nMinden kedves kisgyermeket szeretettel vár a Mikulás és a Manók!
URL:https://bbmh.hu/rendezveny/varosi-mikulas-mikulasjaras/
CATEGORIES:Gyermek,Mikulásjárás,Ünnep
ATTACH;FMTTYPE=image/jpeg:https://bbmh.hu/wp-content/uploads/2024/11/Varosi-Mikulas-honlapra.jpg
ORGANIZER;CN="Balassi B%C3%A1lint M%C5%B1vel%C5%91d%C3%A9si H%C3%A1z":MAILTO:muvhaz@janossomorja.hu
END:VEVENT
BEGIN:VEVENT
DTSTART;TZID=Europe/Paris:20241203T170000
DTEND;TZID=Europe/Paris:20241203T180000
DTSTAMP:20260426T033515
CREATED:20241129T074813Z
LAST-MODIFIED:20241129T074813Z
UID:4135-1733245200-1733248800@bbmh.hu
SUMMARY:CIVIL FÓRUM MEGHÍVÓ
DESCRIPTION:CIVIL FÓRUM MEGHÍVÓ \n2024. december 03. (kedd) 17 óra \nBalassi Bálint Művelődési Ház\, Jánossomorja
URL:https://bbmh.hu/rendezveny/civil-forum-meghivo-2/
LOCATION:Balassi Bálint Művelődési Ház\, Óvári u. 1.\, Jánossomorja
CATEGORIES:Fórum
ATTACH;FMTTYPE=image/jpeg:https://bbmh.hu/wp-content/uploads/2024/11/Civil_Forum_meghivo_2024_12_03-scaled.jpg
ORGANIZER;CN="Balassi B%C3%A1lint M%C5%B1vel%C5%91d%C3%A9si H%C3%A1z":MAILTO:muvhaz@janossomorja.hu
END:VEVENT
BEGIN:VEVENT
DTSTART;TZID=Europe/Paris:20241112T180000
DTEND;TZID=Europe/Paris:20241112T190000
DTSTAMP:20260426T033515
CREATED:20241029T082833Z
LAST-MODIFIED:20241029T082833Z
UID:4106-1731434400-1731438000@bbmh.hu
SUMMARY:"20+4 KÉP" - DEZAMITS ISTVÁN FOTÓKIÁLLÍTÁSA
DESCRIPTION:„20+4 KÉP” – DEZAMITS ISTVÁN FOTÓKIÁLLÍTÁSA A 20 ÉVES JÁNOSSOMORJÁRÓL \n2024. november 12. (kedd) 18:00 óra \nA kiállítást megnyitja: Lőrincz György\, Jánossomorja város polgármestere.
URL:https://bbmh.hu/rendezveny/204-kep-dezamits-istvan-fotokiallitasa/
LOCATION:Városi Könyvtár\, Szabadság u. 2.\, Jánossomorja
CATEGORIES:Ismeretterjesztő,Kiállítás,Könyvtári rendezvények
ATTACH;FMTTYPE=image/jpeg:https://bbmh.hu/wp-content/uploads/2024/10/Dezamits-Istvan-fotokiallitas-20-eves-Janossomorja-2024_11_12.jpg
END:VEVENT
BEGIN:VEVENT
DTSTART;TZID=Europe/Paris:20241109T180000
DTEND;TZID=Europe/Paris:20241109T210000
DTSTAMP:20260426T033515
CREATED:20241029T082401Z
LAST-MODIFIED:20241029T082401Z
UID:4103-1731175200-1731186000@bbmh.hu
SUMMARY:XII. NÉPTÁNCGÁLA
DESCRIPTION:XII. NÉPTÁNCGÁLA \n2024. november 9. (szombat) 18:00 óra \nHázigazda: Tititá Néptáncegyüttes. \nA műsor után TÁNCHÁZ! \nBelépődíj: felnőtt: 1 500 Ft\, diák: 500 Ft!
URL:https://bbmh.hu/rendezveny/xii-neptancgala/
LOCATION:Balassi Bálint Művelődési Ház\, Óvári u. 1.\, Jánossomorja
CATEGORIES:Hagyományőrző,Néptánc
ATTACH;FMTTYPE=image/jpeg:https://bbmh.hu/wp-content/uploads/2024/10/12-neptancgala-honlapra.jpg
END:VEVENT
BEGIN:VEVENT
DTSTART;TZID=Europe/Paris:20241105T180000
DTEND;TZID=Europe/Paris:20241105T190000
DTSTAMP:20260426T033515
CREATED:20241029T083218Z
LAST-MODIFIED:20241029T083218Z
UID:4109-1730829600-1730833200@bbmh.hu
SUMMARY:"HATÁROK A TÖRTÉNELEM SODRÁSÁBAN" - SIPOS SÁNDOR ELŐADÁSA
DESCRIPTION:„HATÁROK A TÖRTÉNELEM SODRÁSÁBAN” – SIPOS SÁNDOR ELŐADÁSA \n2024. november 5. (kedd) 18:00 óra \nElőadás a magyar határvédelem történetéről.
URL:https://bbmh.hu/rendezveny/hatarok-a-tortenelem-sodrasaban-sipos-sandor-eloadasa/
LOCATION:Városi Könyvtár\, Szabadság u. 2.\, Jánossomorja
CATEGORIES:Ismeretterjesztő
ATTACH;FMTTYPE=image/jpeg:https://bbmh.hu/wp-content/uploads/2024/10/Sipos-Sandor-honlapra.jpg
END:VEVENT
BEGIN:VEVENT
DTSTART;TZID=Europe/Paris:20241029T080000
DTEND;TZID=Europe/Paris:20241029T170000
DTSTAMP:20260426T033515
CREATED:20241029T080335Z
LAST-MODIFIED:20241029T080335Z
UID:4100-1730188800-1730221200@bbmh.hu
SUMMARY:"ÉPESZŰEK!" KVÍZEST
DESCRIPTION:ÉPESZŰEK KVÍZEST! \n2024. november 20. (szerda) 18:00 óra \nElgondolkodtató és szórakoztató kérdések\, csapatjáték\, izgalom\, humor! \nA november 20-ai „Épeszűek!” Kvízestre a helyek „pillanatok alatt” beteltek! \nHa lemaradtatok\, várólistára még felkerülhettek! 🙂
URL:https://bbmh.hu/rendezveny/epeszuek-kvizest/
LOCATION:Balassi Bálint Művelődési Ház\, Óvári u. 1.\, Jánossomorja
CATEGORIES:Humor,Ismeretterjesztő,Könyvtári rendezvények
ATTACH;FMTTYPE=image/jpeg:https://bbmh.hu/wp-content/uploads/2024/10/Kvizest_telthaz.jpg
END:VEVENT
BEGIN:VEVENT
DTSTART;TZID=Europe/Paris:20241023T170000
DTEND;TZID=Europe/Paris:20241023T170000
DTSTAMP:20260426T033515
CREATED:20241014T094249Z
LAST-MODIFIED:20241022T073709Z
UID:4088-1729702800-1729702800@bbmh.hu
SUMMARY:ÜNNEPI MEGEMLÉKEZÉS AZ '56-OS FORRADALOM ÉS SZABADSÁGHARC EMLÉKNAPJA ALKALMÁBÓL
DESCRIPTION:AZ 1956-OS FORRADALOM ÉS SZABADSÁGHARC EMLÉKNAPJA JÁNOSSOMORJÁN \n2024. október 23. (szerda) 17 óra \nMenekülők kopjafája – Jánossomorja\, Tarcsai u. \n\nProgram:\n– Ünnepi beszédet mond Péntek Lajos önkormányzati képviselő\, a Jánossomorjai Önkéntes Tűzoltó Egyesület elnöke.\n– Szavalat: Wittmann Elekné.\n\nKözreműködik a Jánossomorjai Önkéntes Tűzoltó Egyesület.\n\n\n\nAz ünnepséget koszorúzás zárja.
URL:https://bbmh.hu/rendezveny/unnepi-megemlekezes-az-56-os-forradalom-es-szabadsagharc-emleknapja-alkalmabol/
LOCATION:56-os kopjafa\, Pusztasomorja
CATEGORIES:Nemzeti ünnep
ATTACH;FMTTYPE=image/jpeg:https://bbmh.hu/wp-content/uploads/2024/10/oktober-23-2024-plakat-.jpg
ORGANIZER;CN="Balassi B%C3%A1lint M%C5%B1vel%C5%91d%C3%A9si H%C3%A1z":MAILTO:muvhaz@janossomorja.hu
END:VEVENT
BEGIN:VEVENT
DTSTART;TZID=Europe/Paris:20241018T190000
DTEND;TZID=Europe/Paris:20241018T210000
DTSTAMP:20260426T033515
CREATED:20240924T134141Z
LAST-MODIFIED:20240924T134141Z
UID:4053-1729278000-1729285200@bbmh.hu
SUMMARY:ÉPESZŰEK KVÍZEST! - BETELT!
DESCRIPTION:ÉPESZŰEK KVÍZEST! \nElgondolkodtató és szórakoztató kérdések\, csapatjáték\, izgalom\, humor! \nÉrtesítünk minden kedves érdeklődőt\, hogy az október 18-ai Épeszűek Kvízestre a helyek beteltek\, nem tudunk további csapatok jelentkezését fogadni.
URL:https://bbmh.hu/rendezveny/epeszuek-kvizest-betelt/
LOCATION:Balassi Bálint Művelődési Ház\, Óvári u. 1.\, Jánossomorja
CATEGORIES:Ismeretterjesztő,Könyvtári rendezvények
ATTACH;FMTTYPE=image/jpeg:https://bbmh.hu/wp-content/uploads/2024/09/Epeszuek-Kvizest.jpg
ORGANIZER;CN="Balassi B%C3%A1lint M%C5%B1vel%C5%91d%C3%A9si H%C3%A1z":MAILTO:muvhaz@janossomorja.hu
END:VEVENT
BEGIN:VEVENT
DTSTART;TZID=Europe/Paris:20241005T140000
DTEND;TZID=Europe/Paris:20241005T190000
DTSTAMP:20260426T033515
CREATED:20240924T132158Z
LAST-MODIFIED:20240925T091244Z
UID:4047-1728136800-1728154800@bbmh.hu
SUMMARY:XVIII. JÁNOSSOMORJAI TÖKFESZTIVÁL
DESCRIPTION:XVIII. JÁNOSSOMORJAI TÖKFESZTIVÁL \n2024. október 5. (szombat) 14:00 – 19:00-ig \nMinden kedves érdeklődőt szeretettel várnak a szervezők!
URL:https://bbmh.hu/rendezveny/xviii-janossomorjai-tokfesztival/
LOCATION:Balassi Bálint Művelődési Ház\, Óvári u. 1.\, Jánossomorja
CATEGORIES:Fesztivál,Hagyományőrző,Kiállítás
ATTACH;FMTTYPE=image/jpeg:https://bbmh.hu/wp-content/uploads/2024/09/Tokfesztival-2024-honlapra-scaled.jpg
END:VEVENT
BEGIN:VEVENT
DTSTART;TZID=Europe/Paris:20241003T180000
DTEND;TZID=Europe/Paris:20241003T190000
DTSTAMP:20260426T033515
CREATED:20240924T140002Z
LAST-MODIFIED:20240924T140002Z
UID:4065-1727978400-1727982000@bbmh.hu
SUMMARY:"EZ AZ EGYETLEN FÖLD" - MAGLÓDINÉ BÁLINT SZILVIA LŐADÁSA
DESCRIPTION:„EZ AZ EGYETLEN FÖLD”\n \nMaglódiné Bálint Szilvia előadása fenntarthatóságról\, újrahasznosításról.  \n2024. október 3. (csütörtök) 18 óra \nVárosi Könyvtár \n  \nMinden érdeklődőt szeretettel várunk!
URL:https://bbmh.hu/rendezveny/ez-az-egyetlen-fold-maglodine-balint-szilvia-loadasa/
LOCATION:Városi Könyvtár\, Szabadság u. 2.\, Jánossomorja
CATEGORIES:Ismeretterjesztő
ATTACH;FMTTYPE=image/jpeg:https://bbmh.hu/wp-content/uploads/2024/09/1-3.jpg
END:VEVENT
BEGIN:VEVENT
DTSTART;TZID=Europe/Paris:20241002T180000
DTEND;TZID=Europe/Paris:20241002T190000
DTSTAMP:20260426T033515
CREATED:20240924T140344Z
LAST-MODIFIED:20240924T140344Z
UID:4069-1727892000-1727895600@bbmh.hu
SUMMARY:SEGÍTSÉG! KAMASZT NEVELEK!
DESCRIPTION:SEGÍTSÉG! KAMASZT NEVELEK! \nElőadás és beszélgetés szülőknek\, pedagógusoknak\, kamaszoknak Nagy Katalin pedagógussal. \n2024. október 2. (szerda) 18 óra \nVárosi Könyvtár
URL:https://bbmh.hu/rendezveny/segitseg-kamaszt-nevelek/
LOCATION:Városi Könyvtár\, Szabadság u. 2.\, Jánossomorja
CATEGORIES:Ismeretterjesztő
ATTACH;FMTTYPE=image/jpeg:https://bbmh.hu/wp-content/uploads/2024/09/1.jpg
END:VEVENT
BEGIN:VEVENT
DTSTART;TZID=Europe/Paris:20241001T180000
DTEND;TZID=Europe/Paris:20241001T190000
DTSTAMP:20260426T033515
CREATED:20240924T134942Z
LAST-MODIFIED:20240924T134942Z
UID:4056-1727805600-1727809200@bbmh.hu
SUMMARY:A JÁNOSSOMORJAI ÁFÉSZ KÉPEKEN - VERES DÁVID VETÍTETT KÉPES ELŐADÁSA
DESCRIPTION:A JÁNOSSOMORJAI ÁFÉSZ KÉPEKEN – VERES DÁVID VETÍTETT KÉPES ELŐADÁSA \nVálogatás a „Valaha Volt Jánossomorja” Facebook oldal archívumából. \n2024. október 1. (kedd) 18 óra \n  \nMinden érdeklődőt szeretettel várunk!
URL:https://bbmh.hu/rendezveny/a-janossomorjai-afesz-kepeken-veres-david-vetitett-kepes-eloadasa/
LOCATION:Városi Könyvtár\, Szabadság u. 2.\, Jánossomorja
CATEGORIES:Ismeretterjesztő
ATTACH;FMTTYPE=image/jpeg:https://bbmh.hu/wp-content/uploads/2024/09/1-1.jpg
END:VEVENT
BEGIN:VEVENT
DTSTART;TZID=Europe/Paris:20240930T180000
DTEND;TZID=Europe/Paris:20240930T190000
DTSTAMP:20260426T033515
CREATED:20240924T135417Z
LAST-MODIFIED:20240924T135417Z
UID:4061-1727719200-1727722800@bbmh.hu
SUMMARY:FINNORSZÁG ÉS NORVÉGIA
DESCRIPTION:FINNORSZÁG ÉS NORVÉGIA \nSipos Ernő vetített képes úti beszámolója és fotókiállítás megnyitója \n2024. szeptember 30. (hétfő) 18 óra \nVárosi Könyvtár
URL:https://bbmh.hu/rendezveny/finnorszag-es-norvegia/
LOCATION:Városi Könyvtár\, Szabadság u. 2.\, Jánossomorja
CATEGORIES:Ismeretterjesztő
ATTACH;FMTTYPE=image/jpeg:https://bbmh.hu/wp-content/uploads/2024/09/1-2.jpg
END:VEVENT
BEGIN:VEVENT
DTSTART;TZID=Europe/Paris:20240927T160000
DTEND;TZID=Europe/Paris:20240927T200000
DTSTAMP:20260426T033515
CREATED:20240924T131554Z
LAST-MODIFIED:20240924T131554Z
UID:4044-1727452800-1727467200@bbmh.hu
SUMMARY:VÁROSI IDŐSEK NAPJA 2024.
DESCRIPTION:VÁROSI IDŐSEK NAPJA 2024. \n2024. szeptember 27. (péntek) 16 óra \nBalassi Bálint Művelődési Ház \nAz idősek világnapja alkalmából szeretettel meghívjuk Jánossomorja város nyugdíjasait egy vidám estére a Balassi Bálint Művelődési Házba. \nAz est programja:\n– 16:00 – Lőrincz György polgármester köszöntője\,\n– 16:30 – „APOSTOL MUSICAL – NEM TUDOK ÉLNI NÉLKÜLED” – Válogatás a musicalből\,\n– 17:30 – A Balassi Bálint Nyugdíjas Egyesület műsora: Napsugár Énekkar\, Fettik Imréné\, Kuzmanov Károlyné\,\n– 17:45 – Közös vacsora\, zenével\, tánccal\, beszélgetésekkel. \nMinden kedves érdeklődőt szeretettel várnak a szervezők! \n 
URL:https://bbmh.hu/rendezveny/varosi-idosek-napja-2024/
LOCATION:Balassi Bálint Művelődési Ház\, Óvári u. 1.\, Jánossomorja
CATEGORIES:Nyugdíjas,Városi rendezvény
ATTACH;FMTTYPE=image/jpeg:https://bbmh.hu/wp-content/uploads/2024/09/460955562_921159923370718_5648661238850618957_n.jpg
ORGANIZER;CN="Balassi B%C3%A1lint M%C5%B1vel%C5%91d%C3%A9si H%C3%A1z":MAILTO:muvhaz@janossomorja.hu
END:VEVENT
BEGIN:VEVENT
DTSTART;TZID=Europe/Paris:20240921T161500
DTEND;TZID=Europe/Paris:20240921T170000
DTSTAMP:20260426T033515
CREATED:20240917T082154Z
LAST-MODIFIED:20240917T082154Z
UID:4040-1726935300-1726938000@bbmh.hu
SUMMARY:"20 ÉV MÚLVA..." - EGY 20 ÉVVEL EZELŐTTI KIÁLLÍTÁS ÚJRAGONDOLVA
DESCRIPTION:MEGHÍVÓ! \n„20 ÉV MÚLVA…” – EGY 20 ÉVVEL EZELŐTTI KIÁLLÍTÁS ÚJRAGONDOLVA \nGlázer-Kozma Edit\, Kovácsi István\, és Zalán Lajos közös kiállítása. \n2024. szeptember 21. (szombat) 16:15\nGlázer-Kozma Galéria – Kisgaléria \nMinden kedves érdeklődőt szeretettel várnak a szervezők!
URL:https://bbmh.hu/rendezveny/20-ev-mulva-egy-20-evvel-ezelotti-kiallitas-ujragondolva/
LOCATION:Glázer-Kozma Galéria\, Szabadság u. 24.\, Jánossomorja
CATEGORIES:Kiállítás
ATTACH;FMTTYPE=image/jpeg:https://bbmh.hu/wp-content/uploads/2024/09/20-ev-mulva-kiallitas-plakat-honlapra.jpg
ORGANIZER;CN="Balassi B%C3%A1lint M%C5%B1vel%C5%91d%C3%A9si H%C3%A1z":MAILTO:muvhaz@janossomorja.hu
END:VEVENT
BEGIN:VEVENT
DTSTART;TZID=Europe/Paris:20240921T140000
DTEND;TZID=Europe/Paris:20240922T000000
DTSTAMP:20260426T033515
CREATED:20240906T182446Z
LAST-MODIFIED:20240906T182446Z
UID:4025-1726927200-1726963200@bbmh.hu
SUMMARY:JÁNOSSOMORJAI VÁROSNAPOK 2024.
DESCRIPTION:JÁNOSSOMORJAI VÁROSNAPOK 2024. \n2024. szeptember 21. szombat\nHelyszín: Millenniumi park\, Jánossomorja. \nTovábbi információkért kérjük\, látogasson el Jánossomorja város honlapjára: https://www.janossomorja.hu/\, illetve Facebook oldalára: https://www.facebook.com/events/847521097439622/?acontext=%7B%22event_action_history%22%3A[]%7D \nMinden kedves érdeklődőt szeretettel várnak a szervezők!
URL:https://bbmh.hu/rendezveny/janossomorjai-varosnapok-2024/
LOCATION:Millenniumi park
CATEGORIES:Koncert,Városi rendezvény,Zene
ATTACH;FMTTYPE=image/jpeg:https://bbmh.hu/wp-content/uploads/2024/09/JANOSSOMORJAI-VAROSNAPOK-2024-2-scaled.jpg
END:VEVENT
BEGIN:VEVENT
DTSTART;TZID=Europe/Paris:20240920T150000
DTEND;TZID=Europe/Paris:20240920T190000
DTSTAMP:20260426T033515
CREATED:20240912T105804Z
LAST-MODIFIED:20240912T105804Z
UID:4035-1726844400-1726858800@bbmh.hu
SUMMARY:"FUT A VÁROS" – FUTÓVERSENY
DESCRIPTION:„FUT A VÁROS” – FUTÓVERSENY \n2024. szeptember 20. péntek 15:30\nHelyszín: JSE Sportpálya \nNevezni a rendezvény helyszínén lehet 15 órától.\nNevezési díj: 200 Ft/fő. \nMinden kedves érdeklődőt szeretettel várnak a szervezők!
URL:https://bbmh.hu/rendezveny/fut-a-varos-futoverseny/
LOCATION:JSE Sportpálya\, Ibolya u.\, Jánossomorja\, Győr-Moson-Sopron vármegye\, 9241\, Magyarország
CATEGORIES:Futóverseny,Sport
ATTACH;FMTTYPE=image/jpeg:https://bbmh.hu/wp-content/uploads/2024/09/Fut_a_varos_2024_honlapra.jpg
END:VEVENT
BEGIN:VEVENT
DTSTART;TZID=Europe/Paris:20240912T190000
DTEND;TZID=Europe/Paris:20240915T000000
DTSTAMP:20260426T033515
CREATED:20240906T180237Z
LAST-MODIFIED:20240912T112530Z
UID:4013-1726167600-1726358400@bbmh.hu
SUMMARY:ELMARAD! - XII. OMLÁS VIRÁGAI MALOMFESZTIVÁL
DESCRIPTION:ELMARAD! – XII. OMLÁS VIRÁGAI MALOMFESZTIVÁL \nTovábbi információkért kérjük\, keresse fel a rendezvény hivatalos Facebook oldalát: https://www.facebook.com/omlasviragai
URL:https://bbmh.hu/rendezveny/xii-omlas-viragai-malomfesztival/
LOCATION:Szórády-féle Hengermalom\, Vasút u. 35.\, Jánossomorja\, 9241\, Magyarország
CATEGORIES:Fesztivál,Koncert,Színház,Zene
ATTACH;FMTTYPE=image/jpeg:https://bbmh.hu/wp-content/uploads/2024/09/XII.-OMLAS-VIRAGAI-MALOMFESZTIVAL-honlapra.jpg
ORGANIZER;CN="Balassi B%C3%A1lint M%C5%B1vel%C5%91d%C3%A9si H%C3%A1z":MAILTO:muvhaz@janossomorja.hu
END:VEVENT
BEGIN:VEVENT
DTSTART;TZID=Europe/Paris:20240910T173000
DTEND;TZID=Europe/Paris:20240910T183000
DTSTAMP:20260426T033515
CREATED:20240906T175324Z
LAST-MODIFIED:20240906T175324Z
UID:4010-1725989400-1725993000@bbmh.hu
SUMMARY:„A TERMÉSZET ÖLELÉSÉBEN” – BARTALOS ERZSÉBET KÉPZŐMŰVÉSZETI ALKOTÓ KIÁLLÍTÁS MEGNYITÓJA
DESCRIPTION:„A TERMÉSZET ÖLELÉSÉBEN” – BARTALOS ERZSÉBET KÉPZŐMŰVÉSZETI ALKOTÓ KIÁLLÍTÁS MEGNYITÓJA \n2024. szeptember 10. (kedd) 17:30\nHelyszín: Balassi Bálint Művelődési Ház (9241 Jánossomorja\, Óvári u. 1.) \nMinden kedves érdeklődőt szeretettel várnak a szervezők!
URL:https://bbmh.hu/rendezveny/a-termeszet-oleleseben-bartalos-erzsebet-kepzomuveszeti-alkoto-kiallitas-megnyitoja/
LOCATION:Balassi Bálint Művelődési Ház\, Óvári u. 1.\, Jánossomorja
CATEGORIES:Kiállítás
ATTACH;FMTTYPE=image/jpeg:https://bbmh.hu/wp-content/uploads/2024/09/„A-TERMESZET-OLELESEBEN-–-BARTALOS-ERZSEBET-KEPZOMUVESZETI-ALKOTO-KIALLITAS-MEGNYITOJA-honlapra-scaled.jpg
ORGANIZER;CN="Balassi B%C3%A1lint M%C5%B1vel%C5%91d%C3%A9si H%C3%A1z":MAILTO:muvhaz@janossomorja.hu
END:VEVENT
BEGIN:VEVENT
DTSTART;TZID=Europe/Paris:20240830T190000
DTEND;TZID=Europe/Paris:20240830T210000
DTSTAMP:20260426T033515
CREATED:20240822T125514Z
LAST-MODIFIED:20240822T125514Z
UID:4002-1725044400-1725051600@bbmh.hu
SUMMARY:NYÁRZÁRÓ FRÖCCSTERASZ JÁNOSSOMORJÁN!
DESCRIPTION:NYÁRZÁRÓ FRÖCCSTERASZ JÁNOSSOMORJÁN! \n2024. augusztus 30. (péntek) 19:00 óra\nHelyszín: Millenniumi park\, Jánossomorja \nTerasznyitás 18:00 órától. \nFrissítő italok\, ínycsiklandó ételek\, jó zene és a kellemes környezet garantált! \nRészletes információk a plakáton\, illetve Jánossomorja város Facebook oldalán: https://www.facebook.com/events/1210309260108617/?ref=newsfeed \nZÁRJUK EGYÜTT A NYARAT!
URL:https://bbmh.hu/rendezveny/nyarzaro-froccsterasz-janossomorjan/
LOCATION:Millenniumi park
CATEGORIES:Koncert,Városi rendezvény,Zene
ATTACH;FMTTYPE=image/jpeg:https://bbmh.hu/wp-content/uploads/2024/08/Sebo_Lili_es_a_MOM_nyarzaro_froccsterasz.jpg
ORGANIZER;CN="Balassi B%C3%A1lint M%C5%B1vel%C5%91d%C3%A9si H%C3%A1z":MAILTO:muvhaz@janossomorja.hu
END:VEVENT
BEGIN:VEVENT
DTSTART;TZID=Europe/Paris:20240819T200000
DTEND;TZID=Europe/Paris:20240820T170000
DTSTAMP:20260426T033515
CREATED:20240808T134227Z
LAST-MODIFIED:20240808T134227Z
UID:3989-1724097600-1724173200@bbmh.hu
SUMMARY:SZENT ISTVÁN NAPI ÜNNEPI MEGEMLÉKEZÉS ÉS BÚCSÚI BÁL
DESCRIPTION:Szent István napi ünnepi megemlékezés és Búcsúi bál \n2023. augusztus 19-20. (hétfő-kedd) \n  \nHelyszín: Pusztasomorja – Sós Antal Közösségi Ház\, Szent István park. \nRészletes információk a mellékelt plakáton. \n  \nMinden kedves érdeklődőt szeretettel várnak a szervezők!
URL:https://bbmh.hu/rendezveny/szent-istvan-napi-unnepi-megemlekezes-es-bucsui-bal/
LOCATION:Szent István park\, Pusztasomorja
CATEGORIES:Bál,Nemzeti ünnep
ATTACH;FMTTYPE=image/jpeg:https://bbmh.hu/wp-content/uploads/2024/08/Szent_Istvan_napi_megemlekezes_es_Bucsui_bal_2024_honlapra.jpg
ORGANIZER;CN="Balassi B%C3%A1lint M%C5%B1vel%C5%91d%C3%A9si H%C3%A1z":MAILTO:muvhaz@janossomorja.hu
END:VEVENT
BEGIN:VEVENT
DTSTART;TZID=Europe/Paris:20240810T100000
DTEND;TZID=Europe/Paris:20240810T173000
DTSTAMP:20260426T033515
CREATED:20240804T212436Z
LAST-MODIFIED:20240804T212436Z
UID:3986-1723284000-1723311000@bbmh.hu
SUMMARY:IX. JÁNOSSOMORJAI AMATŐR LOVAS TALÁLKOZÓ
DESCRIPTION:IX. JÁNOSSOMORJAI AMATŐR LOVAS TALÁLKOZÓ \n2024. augusztus 10. (szombat) \nHelyszín: Jánossomorja\, Legelő u. vége\n(GPS: 47.778117\, 17.133736) \nMinden kedves érdeklődőt szeretettel várnak a szervezők!
URL:https://bbmh.hu/rendezveny/ix-janossomorjai-amator-lovas-talalkozo/
LOCATION:Jánossomorja\, Legelő u.
CATEGORIES:Lovas díjugrató verseny,Sport,Találkozó
ATTACH;FMTTYPE=image/jpeg:https://bbmh.hu/wp-content/uploads/2024/08/Lovastalalkozo_2024_honlapra-scaled.jpg
END:VEVENT
BEGIN:VEVENT
DTSTART;TZID=Europe/Paris:20240720T200000
DTEND;TZID=Europe/Paris:20240720T220000
DTSTAMP:20260426T033515
CREATED:20240715T115155Z
LAST-MODIFIED:20240715T115155Z
UID:3979-1721505600-1721512800@bbmh.hu
SUMMARY:NYÁRESTI FRÖCCSTERASZ - RIZIKÓFAKTOR KONCERT
DESCRIPTION:NYÁRESTI FRÖCCSTERASZ – RIZIKÓFAKTOR KONCERT \n2024. július 20. (szombat) 20:00 óra \nJánossomorja\, Millenniumi park \nKapunyitás: 19:00 órától.
URL:https://bbmh.hu/rendezveny/nyaresti-froccsterasz-rizikofaktor-koncert/
LOCATION:Millenniumi park
CATEGORIES:Koncert
ATTACH;FMTTYPE=image/jpeg:https://bbmh.hu/wp-content/uploads/2024/07/Nyaresti-froccsterasz-RizikoFaktor-koncert-honlapra.jpg
END:VEVENT
BEGIN:VEVENT
DTSTART;TZID=Europe/Paris:20240623T150000
DTEND;TZID=Europe/Paris:20240623T210000
DTSTAMP:20260426T033515
CREATED:20240617T130239Z
LAST-MODIFIED:20240617T130239Z
UID:3965-1719154800-1719176400@bbmh.hu
SUMMARY:MÚZEUMOK ÉJSZAKÁJA ÉS SZENT IVÁN-ÉJI TŰZUGRÁS
DESCRIPTION:MÚZEUMOK ÉJSZAKÁJA ÉS SZENT IVÁN-ÉJI TŰZUGRÁS \n2024. június 23. (vasárnap) 15:00 – 21:00-ig. \nHelyszín: Glázer-Kozma Galéria és udvara (Dr. Dicsőfi Endre u. 21.)\, Helytörténeti Gyűjtemény (Szabadság u. 24.). \nProgram: \n\n15:00 – „Szegény ember KAKAST főz!” – Avagy hogyan készül a kakaspörkölt?\n16:00 – Jakab Péter festőművész „Tanulmánytól az absztraktig” című kiállításának megnyitója (Glázer-Kozma Galéria felső terme)\,\n17:10 – „Szegény ember vízzel főz” – Közösségünk kincsei vándorkiállítás tárlatvezetése (Helytörténeti Gyűjtemény)\,\n19:00 – Drum’n Lucru zenekar műsora (Glázer-Kozma Galéria udvara)\,\n20:00 – Szent Iván-éji tűzugrás és táncház (Glázer-Kozma Galéria udvara).\n\nMinden kedves érdeklődőt szeretettel várnak a szervezők!
URL:https://bbmh.hu/rendezveny/muzeumok-ejszakaja-es-szent-ivan-eji-tuzugras-2/
LOCATION:Glázer-Kozma Galéria udvara\, Dr. Dicsőfi Endre u. 21.\, Jánossomorja\, 9241\, Magyarország
CATEGORIES:Kiállítás,Koncert,Tánc
ATTACH;FMTTYPE=image/jpeg:https://bbmh.hu/wp-content/uploads/2024/06/Muzeumok_Ejszakaja_2024_honlapra-scaled.jpg
ORGANIZER;CN="Balassi B%C3%A1lint M%C5%B1vel%C5%91d%C3%A9si H%C3%A1z":MAILTO:muvhaz@janossomorja.hu
END:VEVENT
BEGIN:VEVENT
DTSTART;TZID=Europe/Paris:20240616T140000
DTEND;TZID=Europe/Paris:20240616T190000
DTSTAMP:20260426T033515
CREATED:20240606T142017Z
LAST-MODIFIED:20240606T142017Z
UID:3948-1718546400-1718564400@bbmh.hu
SUMMARY:"KÖLYÖK GÖDÖR"
DESCRIPTION:„KÖLYÖK GÖDÖR”\n\n2024. június 16. (vasárnap) 14:00 – 19:00 óráig\nEsőnap: 2024. június 30. (vasárnap). \nHelyszín: Pusztasomorjai Játszó- és Pihenőpark \n(9241 Jánossomorja\, Szent István u.) \n\n2024. június 16-án (vasárnap) vár benneteket újra a „Kölyök Gödör” a Pusztasomorjai Játszó- és Pihenőparkban. \nProgram: \n15:00: Zumba Kids Sárával\n15:30: Óriás Buborék Show\n16:00: Molnár Orsi koncertje\n17:00: Turóczi Levente hivatásos bohóc interaktív műsora\n17:30: “Piroska” A Hold Színház mesejátéka \n\nÓriáscsúszda\, vízi gömb\, EuroBungee\, kalandpálya\, légvár\, hajóhinta\, és még ezernyi játék és szórakozás várja a kicsiket és nagyokat egyaránt! \nMinden kedves érdeklődőt sok szeretettel vár Jánossomorja Város Önkormányzata!
URL:https://bbmh.hu/rendezveny/kolyok-godor-4/
LOCATION:Pusztasomorjai játszó- és pihenőpark
CATEGORIES:Gyermek,Koncert,Színház
ATTACH;FMTTYPE=image/jpeg:https://bbmh.hu/wp-content/uploads/2024/06/2_hirdetes.jpg
ORGANIZER;CN="Balassi B%C3%A1lint M%C5%B1vel%C5%91d%C3%A9si H%C3%A1z":MAILTO:muvhaz@janossomorja.hu
END:VEVENT
BEGIN:VEVENT
DTSTART;TZID=Europe/Paris:20240611T170000
DTEND;TZID=Europe/Paris:20240611T170000
DTSTAMP:20260426T033515
CREATED:20240610T155208Z
LAST-MODIFIED:20240610T155208Z
UID:3958-1718125200-1718125200@bbmh.hu
SUMMARY:"DIGITÁLIS TARTALMAK" - A NÉPRAJZI MÚZEUM WORKSHOPJA
DESCRIPTION:DIGITÁLIS TARTALMAK KÖZZÉTÉTELE\, HASZNOSÍTÁSA\, ALKALMAZÁSA – A NÉPRAJZI MÚZEUM WORKSHOPJA \n2024. június 11. (kedd) 17 óra \nGyakorlatorientált interaktív foglalkozás a helytörténet iránt érdeklődők számára a Néprajzi Múzeum gyűjteményi adatbázisából és közösségi média gyakorlatából. \nDigitális tartalmak közzététele\, hasznosítása\, alkalmazása workshop\, melynek célja\, hogy a Néprajzi Múzeum gyűjteményi adatbázisából és közösségi média gyakorlatából kiindulva segítséget nyújtson a közösségeknek\, egyéneknek\, miként osszanak meg digitalizált fényképeket és egyéb gyűjteményi tartalmakat helyi közösségekkel\, településekkel\, példákat adjon\, milyen módon lehet – térítésmentes megoldásokkal – online közösséget építeni. \nMinden kedves érdeklődőt szeretettel várnak a szervezők!
URL:https://bbmh.hu/rendezveny/digitalis-tartalmak-a-neprajzi-muzeum-workshopja/
LOCATION:Balassi Bálint Művelődési Ház\, Óvári u. 1.\, Jánossomorja
CATEGORIES:Hagyományőrző,Ismeretterjesztő,Workshop
ATTACH;FMTTYPE=image/jpeg:https://bbmh.hu/wp-content/uploads/2024/06/Digitalis-tartalmak-Neprajzi-Muzeum-workshop-plakat-honlapra-scaled.jpg
ORGANIZER;CN="Balassi B%C3%A1lint M%C5%B1vel%C5%91d%C3%A9si H%C3%A1z":MAILTO:muvhaz@janossomorja.hu
END:VEVENT
END:VCALENDAR